BEGIN:VCALENDAR
VERSION:2.0
PRODID:-//Club Raffelberg e.V. Duisburg - ECPv6.15.20//NONSGML v1.0//EN
CALSCALE:GREGORIAN
METHOD:PUBLISH
X-ORIGINAL-URL:https://club-raffelberg.com
X-WR-CALDESC:Veranstaltungen für Club Raffelberg e.V. Duisburg
REFRESH-INTERVAL;VALUE=DURATION:PT1H
X-Robots-Tag:noindex
X-PUBLISHED-TTL:PT1H
BEGIN:VTIMEZONE
TZID:Europe/Berlin
BEGIN:DAYLIGHT
TZOFFSETFROM:+0100
TZOFFSETTO:+0200
TZNAME:CEST
DTSTART:20200329T010000
END:DAYLIGHT
BEGIN:STANDARD
TZOFFSETFROM:+0200
TZOFFSETTO:+0100
TZNAME:CET
DTSTART:20201025T010000
END:STANDARD
BEGIN:DAYLIGHT
TZOFFSETFROM:+0100
TZOFFSETTO:+0200
TZNAME:CEST
DTSTART:20210328T010000
END:DAYLIGHT
BEGIN:STANDARD
TZOFFSETFROM:+0200
TZOFFSETTO:+0100
TZNAME:CET
DTSTART:20211031T010000
END:STANDARD
BEGIN:DAYLIGHT
TZOFFSETFROM:+0100
TZOFFSETTO:+0200
TZNAME:CEST
DTSTART:20220327T010000
END:DAYLIGHT
BEGIN:STANDARD
TZOFFSETFROM:+0200
TZOFFSETTO:+0100
TZNAME:CET
DTSTART:20221030T010000
END:STANDARD
BEGIN:DAYLIGHT
TZOFFSETFROM:+0100
TZOFFSETTO:+0200
TZNAME:CEST
DTSTART:20230326T010000
END:DAYLIGHT
BEGIN:STANDARD
TZOFFSETFROM:+0200
TZOFFSETTO:+0100
TZNAME:CET
DTSTART:20231029T010000
END:STANDARD
BEGIN:DAYLIGHT
TZOFFSETFROM:+0100
TZOFFSETTO:+0200
TZNAME:CEST
DTSTART:20240331T010000
END:DAYLIGHT
BEGIN:STANDARD
TZOFFSETFROM:+0200
TZOFFSETTO:+0100
TZNAME:CET
DTSTART:20241027T010000
END:STANDARD
END:VTIMEZONE
BEGIN:VEVENT
DTSTART;TZID=Europe/Berlin:20230626T090000
DTEND;TZID=Europe/Berlin:20230630T140000
DTSTAMP:20260419T190029
CREATED:20230511T143739Z
LAST-MODIFIED:20230627T080649Z
UID:10000078-1687770000-1688133600@club-raffelberg.com
SUMMARY:Hockey Sommercamp für Minis (1. Ferienwoche)
DESCRIPTION:Minis sind die Jahrgänge 2017-2018. Der Tagesablauf schaut üblicherweise so aus: \n\n\n\n\n08:30 – 09:00 Uhr\nBringen\n\n\n09:00 – 12:15 Uhr\nAthletik\, Hockey\n\n\n12:15 – 13:00 Uhr\nMittagessen\n\n\n13:00 – 14:00 Uhr\ngemeinsame Aktivität oder Freizeit\n\n\n14:00 Uhr\nAbholen\n\n\n\n\nBitte beachten Sie: Das Minicamp ist erstmalig 5 Tage (statt bisher 3 Tage) lang! \nDie Teilnahme kostet 150 Euro pro Kind und beinhaltet das Mittagessen. \nAlternativ können Sie ihr Mini-Kind in der ersten Ferienwoche auch zum Feriencamp mit der Abholung um 16 Uhr anmelden. Nutzen Sie bitte hierzu dieses Anmeldeformular. \n 
URL:https://club-raffelberg.com/event/hockey-sommercamp-fuer-minis-1-ferienwoche/
LOCATION:Club Raffelberg e.V.\, Kalkweg 123-125\, Duisburg\, 47055\, Deutschland
CATEGORIES:Camp,Sommerferien
END:VEVENT
BEGIN:VEVENT
DTSTART;TZID=Europe/Berlin:20230511T183000
DTEND;TZID=Europe/Berlin:20230511T200000
DTSTAMP:20260419T190029
CREATED:20230417T090403Z
LAST-MODIFIED:20230502T110313Z
UID:10000074-1683829800-1683835200@club-raffelberg.com
SUMMARY:proDUISBURG spricht mit … Kai Magnus Sting
DESCRIPTION:
URL:https://club-raffelberg.com/event/produisburg-spricht-mit-kai-magnus-sting/
LOCATION:Club Raffelberg e.V.\, Kalkweg 123-125\, Duisburg\, 47055\, Deutschland
END:VEVENT
BEGIN:VEVENT
DTSTART;TZID=Europe/Berlin:20230506T111500
DTEND;TZID=Europe/Berlin:20230506T121500
DTSTAMP:20260419T190029
CREATED:20230306T082218Z
LAST-MODIFIED:20230306T082218Z
UID:10000073-1683371700-1683375300@club-raffelberg.com
SUMMARY:Tennis Schnuppertraining
DESCRIPTION:
URL:https://club-raffelberg.com/event/tennis-schnuppertraining-3/
LOCATION:Club Raffelberg e.V.\, Kalkweg 123-125\, Duisburg\, 47055\, Deutschland
CATEGORIES:Schnuppertraining,Tennis
END:VEVENT
BEGIN:VEVENT
DTSTART;TZID=Europe/Berlin:20230506T100000
DTEND;TZID=Europe/Berlin:20230506T110000
DTSTAMP:20260419T190029
CREATED:20230306T082156Z
LAST-MODIFIED:20230502T110406Z
UID:10000072-1683367200-1683370800@club-raffelberg.com
SUMMARY:Hockey Schnuppertraining
DESCRIPTION:
URL:https://club-raffelberg.com/event/hockey-schnuppertraining-3/
LOCATION:Club Raffelberg e.V.\, Kalkweg 123-125\, Duisburg\, 47055\, Deutschland
CATEGORIES:Hockey,Schnuppertraining
END:VEVENT
BEGIN:VEVENT
DTSTART;TZID=Europe/Berlin:20230429T111500
DTEND;TZID=Europe/Berlin:20230429T121500
DTSTAMP:20260419T190029
CREATED:20230306T082128Z
LAST-MODIFIED:20230306T082128Z
UID:10000071-1682766900-1682770500@club-raffelberg.com
SUMMARY:Tennis Schnuppertraining
DESCRIPTION:
URL:https://club-raffelberg.com/event/tennis-schnuppertraining-2/
LOCATION:Club Raffelberg e.V.\, Kalkweg 123-125\, Duisburg\, 47055\, Deutschland
CATEGORIES:Schnuppertraining,Tennis
END:VEVENT
BEGIN:VEVENT
DTSTART;TZID=Europe/Berlin:20230429T100000
DTEND;TZID=Europe/Berlin:20230429T110000
DTSTAMP:20260419T190029
CREATED:20230306T082100Z
LAST-MODIFIED:20230425T065021Z
UID:10000070-1682762400-1682766000@club-raffelberg.com
SUMMARY:Hockey Schnuppertraining
DESCRIPTION:
URL:https://club-raffelberg.com/event/hockey-schnuppertraining-2/
LOCATION:Club Raffelberg e.V.\, Kalkweg 123-125\, Duisburg\, 47055\, Deutschland
CATEGORIES:Hockey,Schnuppertraining
END:VEVENT
BEGIN:VEVENT
DTSTART;TZID=Europe/Berlin:20230422T111500
DTEND;TZID=Europe/Berlin:20230422T121500
DTSTAMP:20260419T190029
CREATED:20230306T082026Z
LAST-MODIFIED:20230306T082026Z
UID:10000069-1682162100-1682165700@club-raffelberg.com
SUMMARY:Tennis Schnuppertraining
DESCRIPTION:
URL:https://club-raffelberg.com/event/tennis-schnuppertraining/
LOCATION:Club Raffelberg e.V.\, Kalkweg 123-125\, Duisburg\, 47055\, Deutschland
CATEGORIES:Schnuppertraining,Tennis
END:VEVENT
BEGIN:VEVENT
DTSTART;TZID=Europe/Berlin:20230422T100000
DTEND;TZID=Europe/Berlin:20230422T110000
DTSTAMP:20260419T190029
CREATED:20230306T081935Z
LAST-MODIFIED:20230306T081935Z
UID:10000068-1682157600-1682161200@club-raffelberg.com
SUMMARY:Hockey Schnuppertraining
DESCRIPTION:
URL:https://club-raffelberg.com/event/hockey-schnuppertraining/
LOCATION:Club Raffelberg e.V.\, Kalkweg 123-125\, Duisburg\, 47055\, Deutschland
CATEGORIES:Hockey,Schnuppertraining
END:VEVENT
BEGIN:VEVENT
DTSTART;VALUE=DATE:20230411
DTEND;VALUE=DATE:20230415
DTSTAMP:20260419T190029
CREATED:20230117T174010Z
LAST-MODIFIED:20230511T140457Z
UID:10000066-1681171200-1681516799@club-raffelberg.com
SUMMARY:Hockey und Tennis Ostercamp (2. Ferienwoche)
DESCRIPTION:Die Teilnahme kostet für Mitglieder 160 Euro (Geschwisterkinder 130 Euro). \nNicht-Mitglieder zahlen 175 Euro (Geschwisterkinder 145 Euro). \nDas Mittagessen ist in der Teilnahmegebühr enthalten.
URL:https://club-raffelberg.com/event/hockey-und-tennis-ostercamp-2-ferienwoche/
LOCATION:Club Raffelberg e.V.\, Kalkweg 123-125\, Duisburg\, 47055\, Deutschland
CATEGORIES:Camp,Osterferien
END:VEVENT
BEGIN:VEVENT
DTSTART;VALUE=DATE:20230411
DTEND;VALUE=DATE:20230414
DTSTAMP:20260419T190029
CREATED:20230117T174255Z
LAST-MODIFIED:20230406T105658Z
UID:10000067-1681171200-1681430399@club-raffelberg.com
SUMMARY:Hockey Ostercamp für Minis (2. Ferienwoche)
DESCRIPTION:Die Teilnahme kostet 90 Euro pro Kind und beinhaltet das Mittagessen.
URL:https://club-raffelberg.com/event/hockey-ostercamp-fuer-minis-2-ferienwoche/
LOCATION:Club Raffelberg e.V.\, Kalkweg 123-125\, Duisburg\, 47055\, Deutschland
CATEGORIES:Camp,Osterferien
END:VEVENT
BEGIN:VEVENT
DTSTART;VALUE=DATE:20230403
DTEND;VALUE=DATE:20230407
DTSTAMP:20260419T190029
CREATED:20230113T121515Z
LAST-MODIFIED:20230328T071359Z
UID:10000065-1680480000-1680825599@club-raffelberg.com
SUMMARY:Tennis Ostercamp (1. Ferienwoche)
DESCRIPTION:Die Teilnahme kostet für Mitglieder 160 Euro (Geschwisterkinder 130 Euro). \nNicht-Mitglieder zahlen 175 Euro (Geschwisterkinder 145 Euro). \nDas Mittagessen ist in der Teilnahmegebühr enthalten.
URL:https://club-raffelberg.com/event/tennis-ostercamp-1-ferienwoche-2/
LOCATION:Club Raffelberg e.V.\, Kalkweg 123-125\, Duisburg\, 47055\, Deutschland
CATEGORIES:Camp,Osterferien
END:VEVENT
BEGIN:VEVENT
DTSTART;VALUE=DATE:20221011
DTEND;VALUE=DATE:20221014
DTSTAMP:20260419T190029
CREATED:20220505T095955Z
LAST-MODIFIED:20230327T090816Z
UID:10000063-1665446400-1665705599@club-raffelberg.com
SUMMARY:Hockey Herbstcamp für Minis (2. Ferienwoche)
DESCRIPTION:Die Teilnahme kostet 90 Euro pro Kind und beinhaltet das Mittagessen.
URL:https://club-raffelberg.com/event/hockey-herbstcamp-fuer-minis-2-ferienwoche/
LOCATION:Club Raffelberg e.V.\, Kalkweg 123-125\, Duisburg\, 47055\, Deutschland
CATEGORIES:Camp,Herbst
END:VEVENT
BEGIN:VEVENT
DTSTART;VALUE=DATE:20221004
DTEND;VALUE=DATE:20221008
DTSTAMP:20260419T190029
CREATED:20220505T095614Z
LAST-MODIFIED:20220921T105811Z
UID:10000062-1664841600-1665187199@club-raffelberg.com
SUMMARY:Hockey Herbstcamp (1. Ferienwoche)
DESCRIPTION:Die Teilnahme kostet für Mitglieder 160 Euro (Geschwisterkinder 130 Euro). \nNicht-Mitglieder zahlen 175 Euro (Geschwisterkinder 145 Euro). \nDas Mittagessen ist in der Teilnahmegebühr enthalten.
URL:https://club-raffelberg.com/event/hockey-und-tennis-herbstcamp-1-ferienwoche/
LOCATION:Club Raffelberg e.V.\, Kalkweg 123-125\, Duisburg\, 47055\, Deutschland
CATEGORIES:Camp,Herbst
END:VEVENT
BEGIN:VEVENT
DTSTART;VALUE=DATE:20220719
DTEND;VALUE=DATE:20220722
DTSTAMP:20260419T190029
CREATED:20220505T084812Z
LAST-MODIFIED:20220523T103402Z
UID:10000061-1658188800-1658447999@club-raffelberg.com
SUMMARY:Hockey Sommercamp für Minis (4. Ferienwoche)
DESCRIPTION:Die Teilnahme kostet 90 Euro pro Kind und beinhaltet das Mittagessen.
URL:https://club-raffelberg.com/event/hockey-sommercamp-fuer-minis-4-ferienwoche/
LOCATION:Club Raffelberg e.V.\, Kalkweg 123-125\, Duisburg\, 47055\, Deutschland
CATEGORIES:Camp,Sommerferien
END:VEVENT
BEGIN:VEVENT
DTSTART;VALUE=DATE:20220711
DTEND;VALUE=DATE:20220716
DTSTAMP:20260419T190029
CREATED:20220505T083804Z
LAST-MODIFIED:20220603T085547Z
UID:10000060-1657497600-1657929599@club-raffelberg.com
SUMMARY:Hockey und Tennis Sommercamp (3. Ferienwoche)
DESCRIPTION:Preise:\n\n\n\n\nMitglieder\n\n\nNicht-Mitglieder\n\n\n\nerstes Kind: 200€\nerstes Kind: 215€\n\n\nGeschwisterkinder: 160€\nGeschwisterkinder: 180€\n\n\n2-Wochen-Angebot -10% also 180€ bzw. 144€ pro Woche\n2-Wochen-Angebot -10% also 193€ bzw. 162€ pro Woche\n\n\n3-Wochen-Angebot -20% also 160€ bzw. 128€ pro Woche\n3-Wochen-Angebot -20% also 172€ bzw. 144€ pro Woche\n\n\n\n  \nDas Mittagessen ist in der Teilnahmegebühr enthalten
URL:https://club-raffelberg.com/event/hockey-und-tennis-sommercamp-3-ferienwoche/
LOCATION:Club Raffelberg e.V.\, Kalkweg 123-125\, Duisburg\, 47055\, Deutschland
CATEGORIES:Camp,Sommerferien
END:VEVENT
BEGIN:VEVENT
DTSTART;VALUE=DATE:20220704
DTEND;VALUE=DATE:20220709
DTSTAMP:20260419T190029
CREATED:20220505T083626Z
LAST-MODIFIED:20220701T082125Z
UID:10000059-1656892800-1657324799@club-raffelberg.com
SUMMARY:Hockey und Tennis Sommercamp (2. Ferienwoche)
DESCRIPTION:Preise:\n\n\n\n\nMitglieder\n\n\nNicht-Mitglieder\n\n\n\nerstes Kind: 200€\nerstes Kind: 215€\n\n\nGeschwisterkinder: 160€\nGeschwisterkinder: 180€\n\n\n2-Wochen-Angebot -10% also 180€ bzw. 144€ pro Woche\n2-Wochen-Angebot -10% also 193€ bzw. 162€ pro Woche\n\n\n3-Wochen-Angebot -20% also 160€ bzw. 128€ pro Woche\n3-Wochen-Angebot -20% also 172€ bzw. 144€ pro Woche\n\n\n\n  \nDas Mittagessen ist in der Teilnahmegebühr enthalten
URL:https://club-raffelberg.com/event/hockey-und-tennis-sommercamp-2-ferienwoche/
LOCATION:Club Raffelberg e.V.\, Kalkweg 123-125\, Duisburg\, 47055\, Deutschland
CATEGORIES:Camp,Sommerferien
END:VEVENT
BEGIN:VEVENT
DTSTART;VALUE=DATE:20220627
DTEND;VALUE=DATE:20220702
DTSTAMP:20260419T190029
CREATED:20220505T082653Z
LAST-MODIFIED:20220603T085419Z
UID:10000058-1656288000-1656719999@club-raffelberg.com
SUMMARY:Hockey und Tennis Sommercamp (1. Ferienwoche)
DESCRIPTION:Preise:\n\n\n\n\nMitglieder\n\n\nNicht-Mitglieder\n\n\n\nerstes Kind: 200€\nerstes Kind: 215€\n\n\nGeschwisterkinder: 160€\nGeschwisterkinder: 180€\n\n\n2-Wochen-Angebot -10% also 180€ bzw. 144€ pro Woche\n2-Wochen-Angebot -10% also 193€ bzw. 162€ pro Woche\n\n\n3-Wochen-Angebot -20% also 160€ bzw. 128€ pro Woche\n3-Wochen-Angebot -20% also 172€ bzw. 144€ pro Woche\n\n\n\n  \nDas Mittagessen ist in der Teilnahmegebühr enthalten
URL:https://club-raffelberg.com/event/hockey-und-tennis-sommercamp-1-ferienwoche/
LOCATION:Club Raffelberg e.V.\, Kalkweg 123-125\, Duisburg\, 47055\, Deutschland
CATEGORIES:Camp,Sommerferien
END:VEVENT
BEGIN:VEVENT
DTSTART;TZID=Europe/Berlin:20220514T111500
DTEND;TZID=Europe/Berlin:20220514T121500
DTSTAMP:20260419T190029
CREATED:20220403T154315Z
LAST-MODIFIED:20220403T154344Z
UID:10000057-1652526900-1652530500@club-raffelberg.com
SUMMARY:Tennis Schnuppertraining
DESCRIPTION:
URL:https://club-raffelberg.com/event/tennis-2022-05-14/
LOCATION:Club Raffelberg e.V.\, Kalkweg 123-125\, Duisburg\, 47055\, Deutschland
CATEGORIES:Schnuppertraining,Tennis
END:VEVENT
BEGIN:VEVENT
DTSTART;TZID=Europe/Berlin:20220514T100000
DTEND;TZID=Europe/Berlin:20220514T110000
DTSTAMP:20260419T190029
CREATED:20220403T153357Z
LAST-MODIFIED:20220403T153433Z
UID:10000053-1652522400-1652526000@club-raffelberg.com
SUMMARY:Hockey Schnuppertraining
DESCRIPTION:
URL:https://club-raffelberg.com/event/hockey-2022-05-14/
LOCATION:Club Raffelberg e.V.\, Kalkweg 123-125\, Duisburg\, 47055\, Deutschland
CATEGORIES:Hockey,Schnuppertraining
END:VEVENT
BEGIN:VEVENT
DTSTART;TZID=Europe/Berlin:20220507T111500
DTEND;TZID=Europe/Berlin:20220507T121500
DTSTAMP:20260419T190029
CREATED:20220403T154000Z
LAST-MODIFIED:20220403T154029Z
UID:10000056-1651922100-1651925700@club-raffelberg.com
SUMMARY:Tennis Schnuppertraining
DESCRIPTION:
URL:https://club-raffelberg.com/event/tennis-2022-05-07/
LOCATION:Club Raffelberg e.V.\, Kalkweg 123-125\, Duisburg\, 47055\, Deutschland
CATEGORIES:Schnuppertraining,Tennis
END:VEVENT
BEGIN:VEVENT
DTSTART;TZID=Europe/Berlin:20220507T100000
DTEND;TZID=Europe/Berlin:20220507T110000
DTSTAMP:20260419T190029
CREATED:20220403T153215Z
LAST-MODIFIED:20220403T153257Z
UID:10000052-1651917600-1651921200@club-raffelberg.com
SUMMARY:Hockey Schnuppertraining
DESCRIPTION:
URL:https://club-raffelberg.com/event/hockey-2022-05-07/
LOCATION:Club Raffelberg e.V.\, Kalkweg 123-125\, Duisburg\, 47055\, Deutschland
CATEGORIES:Hockey,Schnuppertraining
END:VEVENT
BEGIN:VEVENT
DTSTART;TZID=Europe/Berlin:20220430T111500
DTEND;TZID=Europe/Berlin:20220430T121500
DTSTAMP:20260419T190029
CREATED:20220403T153810Z
LAST-MODIFIED:20220403T153837Z
UID:10000055-1651317300-1651320900@club-raffelberg.com
SUMMARY:Tennis Schnuppertraining
DESCRIPTION:
URL:https://club-raffelberg.com/event/tennis-2022-04-30/
LOCATION:Club Raffelberg e.V.\, Kalkweg 123-125\, Duisburg\, 47055\, Deutschland
CATEGORIES:Schnuppertraining,Tennis
END:VEVENT
BEGIN:VEVENT
DTSTART;TZID=Europe/Berlin:20220430T100000
DTEND;TZID=Europe/Berlin:20220430T110000
DTSTAMP:20260419T190029
CREATED:20220403T153030Z
LAST-MODIFIED:20220403T153107Z
UID:10000051-1651312800-1651316400@club-raffelberg.com
SUMMARY:Hockey Schnuppertraining
DESCRIPTION:
URL:https://club-raffelberg.com/event/hockey-2022-04-30/
LOCATION:Club Raffelberg e.V.\, Kalkweg 123-125\, Duisburg\, 47055\, Deutschland
CATEGORIES:Hockey,Schnuppertraining
END:VEVENT
BEGIN:VEVENT
DTSTART;TZID=Europe/Berlin:20220423T111500
DTEND;TZID=Europe/Berlin:20220423T121500
DTSTAMP:20260419T190029
CREATED:20220403T153634Z
LAST-MODIFIED:20220403T153700Z
UID:10000054-1650712500-1650716100@club-raffelberg.com
SUMMARY:Tennis Schnuppertraining
DESCRIPTION:
URL:https://club-raffelberg.com/event/tennis-2022-04-23/
LOCATION:Club Raffelberg e.V.\, Kalkweg 123-125\, Duisburg\, 47055\, Deutschland
CATEGORIES:Schnuppertraining,Tennis
END:VEVENT
BEGIN:VEVENT
DTSTART;TZID=Europe/Berlin:20220423T100000
DTEND;TZID=Europe/Berlin:20220423T110000
DTSTAMP:20260419T190029
CREATED:20220403T151453Z
LAST-MODIFIED:20220403T152905Z
UID:10000050-1650708000-1650711600@club-raffelberg.com
SUMMARY:Hockey Schnuppertraining
DESCRIPTION:
URL:https://club-raffelberg.com/event/hockey-2022-04-23/
LOCATION:Club Raffelberg e.V.\, Kalkweg 123-125\, Duisburg\, 47055\, Deutschland
CATEGORIES:Hockey,Schnuppertraining
END:VEVENT
BEGIN:VEVENT
DTSTART;VALUE=DATE:20220419
DTEND;VALUE=DATE:20220423
DTSTAMP:20260419T190029
CREATED:20220119T124932Z
LAST-MODIFIED:20220314T144433Z
UID:10000048-1650326400-1650671999@club-raffelberg.com
SUMMARY:Hockey und Tennis Ostercamp (2. Ferienwoche)
DESCRIPTION:Die Teilnahme kostet für Mitglieder 152 Euro (Geschwisterkinder 124 Euro). \nNicht-Mitglieder zahlen 164 Euro (Geschwisterkinder 136 Euro). \nDas Mittagessen ist in der Teilnahmegebühr enthalten.
URL:https://club-raffelberg.com/event/hockey-und-tennis-ostercamp/
LOCATION:Club Raffelberg e.V.\, Kalkweg 123-125\, Duisburg\, 47055\, Deutschland
CATEGORIES:Camp,Osterferien
END:VEVENT
BEGIN:VEVENT
DTSTART;VALUE=DATE:20220412
DTEND;VALUE=DATE:20220415
DTSTAMP:20260419T190029
CREATED:20220119T123649Z
LAST-MODIFIED:20220314T144341Z
UID:10000047-1649721600-1649980799@club-raffelberg.com
SUMMARY:Hockey Ostercamp für Minis (1. Ferienwoche)
DESCRIPTION:Die Teilnahme kostet 90 Euro pro Kind und beinhaltet das Mittagessen.
URL:https://club-raffelberg.com/event/hockey-ostercamp-fuer-minis/
LOCATION:Club Raffelberg e.V.\, Kalkweg 123-125\, Duisburg\, 47055\, Deutschland
CATEGORIES:Camp,Osterferien
END:VEVENT
BEGIN:VEVENT
DTSTART;VALUE=DATE:20220411
DTEND;VALUE=DATE:20220415
DTSTAMP:20260419T190029
CREATED:20220124T161354Z
LAST-MODIFIED:20220314T144246Z
UID:10000049-1649635200-1649980799@club-raffelberg.com
SUMMARY:Tennis Ostercamp (1. Ferienwoche)
DESCRIPTION:Die Teilnahme kostet für Mitglieder 152 Euro (Geschwisterkinder 124 Euro). \nNicht-Mitglieder zahlen 164 Euro (Geschwisterkinder 136 Euro). \nDas Mittagessen ist in der Teilnahmegebühr enthalten.
URL:https://club-raffelberg.com/event/tennis-ostercamp-1-ferienwoche/
LOCATION:Club Raffelberg e.V.\, Kalkweg 123-125\, Duisburg\, 47055\, Deutschland
CATEGORIES:Camp,Osterferien
END:VEVENT
BEGIN:VEVENT
DTSTART;TZID=Europe/Berlin:20210529T110000
DTEND;TZID=Europe/Berlin:20210529T120000
DTSTAMP:20260419T190029
CREATED:20210516T055631Z
LAST-MODIFIED:20210516T055631Z
UID:10000046-1622286000-1622289600@club-raffelberg.com
SUMMARY:Tennis Schnuppertraining
DESCRIPTION:
URL:https://club-raffelberg.com/event/tennis-2021-05-29/
LOCATION:Club Raffelberg e.V.\, Kalkweg 123-125\, Duisburg\, 47055\, Deutschland
CATEGORIES:Tennis
END:VEVENT
BEGIN:VEVENT
DTSTART;TZID=Europe/Berlin:20210529T100000
DTEND;TZID=Europe/Berlin:20210529T110000
DTSTAMP:20260419T190029
CREATED:20210317T184818Z
LAST-MODIFIED:20210319T185023Z
UID:10000038-1622282400-1622286000@club-raffelberg.com
SUMMARY:Hockey Schnuppertraining
DESCRIPTION:
URL:https://club-raffelberg.com/event/hockey-2021-05-29/
LOCATION:Club Raffelberg e.V.\, Kalkweg 123-125\, Duisburg\, 47055\, Deutschland
CATEGORIES:Hockey
END:VEVENT
END:VCALENDAR