BEGIN:VCALENDAR
VERSION:2.0
PRODID:-//Club Raffelberg e.V. Duisburg - ECPv6.15.20//NONSGML v1.0//EN
CALSCALE:GREGORIAN
METHOD:PUBLISH
X-ORIGINAL-URL:https://club-raffelberg.com
X-WR-CALDESC:Veranstaltungen für Club Raffelberg e.V. Duisburg
REFRESH-INTERVAL;VALUE=DURATION:PT1H
X-Robots-Tag:noindex
X-PUBLISHED-TTL:PT1H
BEGIN:VTIMEZONE
TZID:Europe/Berlin
BEGIN:DAYLIGHT
TZOFFSETFROM:+0100
TZOFFSETTO:+0200
TZNAME:CEST
DTSTART:20200329T010000
END:DAYLIGHT
BEGIN:STANDARD
TZOFFSETFROM:+0200
TZOFFSETTO:+0100
TZNAME:CET
DTSTART:20201025T010000
END:STANDARD
BEGIN:DAYLIGHT
TZOFFSETFROM:+0100
TZOFFSETTO:+0200
TZNAME:CEST
DTSTART:20210328T010000
END:DAYLIGHT
BEGIN:STANDARD
TZOFFSETFROM:+0200
TZOFFSETTO:+0100
TZNAME:CET
DTSTART:20211031T010000
END:STANDARD
BEGIN:DAYLIGHT
TZOFFSETFROM:+0100
TZOFFSETTO:+0200
TZNAME:CEST
DTSTART:20220327T010000
END:DAYLIGHT
BEGIN:STANDARD
TZOFFSETFROM:+0200
TZOFFSETTO:+0100
TZNAME:CET
DTSTART:20221030T010000
END:STANDARD
BEGIN:DAYLIGHT
TZOFFSETFROM:+0100
TZOFFSETTO:+0200
TZNAME:CEST
DTSTART:20230326T010000
END:DAYLIGHT
BEGIN:STANDARD
TZOFFSETFROM:+0200
TZOFFSETTO:+0100
TZNAME:CET
DTSTART:20231029T010000
END:STANDARD
END:VTIMEZONE
BEGIN:VEVENT
DTSTART;TZID=Europe/Berlin:20220423T100000
DTEND;TZID=Europe/Berlin:20220423T110000
DTSTAMP:20260421T132033
CREATED:20220403T151453Z
LAST-MODIFIED:20220403T152905Z
UID:10000050-1650708000-1650711600@club-raffelberg.com
SUMMARY:Hockey Schnuppertraining
DESCRIPTION:
URL:https://club-raffelberg.com/event/hockey-2022-04-23/
LOCATION:Club Raffelberg e.V.\, Kalkweg 123-125\, Duisburg\, 47055\, Deutschland
CATEGORIES:Hockey,Schnuppertraining
END:VEVENT
BEGIN:VEVENT
DTSTART;VALUE=DATE:20220419
DTEND;VALUE=DATE:20220423
DTSTAMP:20260421T132033
CREATED:20220119T124932Z
LAST-MODIFIED:20220314T144433Z
UID:10000048-1650326400-1650671999@club-raffelberg.com
SUMMARY:Hockey und Tennis Ostercamp (2. Ferienwoche)
DESCRIPTION:Die Teilnahme kostet für Mitglieder 152 Euro (Geschwisterkinder 124 Euro). \nNicht-Mitglieder zahlen 164 Euro (Geschwisterkinder 136 Euro). \nDas Mittagessen ist in der Teilnahmegebühr enthalten.
URL:https://club-raffelberg.com/event/hockey-und-tennis-ostercamp/
LOCATION:Club Raffelberg e.V.\, Kalkweg 123-125\, Duisburg\, 47055\, Deutschland
CATEGORIES:Camp,Osterferien
END:VEVENT
BEGIN:VEVENT
DTSTART;VALUE=DATE:20220412
DTEND;VALUE=DATE:20220415
DTSTAMP:20260421T132033
CREATED:20220119T123649Z
LAST-MODIFIED:20220314T144341Z
UID:10000047-1649721600-1649980799@club-raffelberg.com
SUMMARY:Hockey Ostercamp für Minis (1. Ferienwoche)
DESCRIPTION:Die Teilnahme kostet 90 Euro pro Kind und beinhaltet das Mittagessen.
URL:https://club-raffelberg.com/event/hockey-ostercamp-fuer-minis/
LOCATION:Club Raffelberg e.V.\, Kalkweg 123-125\, Duisburg\, 47055\, Deutschland
CATEGORIES:Camp,Osterferien
END:VEVENT
BEGIN:VEVENT
DTSTART;VALUE=DATE:20220411
DTEND;VALUE=DATE:20220415
DTSTAMP:20260421T132033
CREATED:20220124T161354Z
LAST-MODIFIED:20220314T144246Z
UID:10000049-1649635200-1649980799@club-raffelberg.com
SUMMARY:Tennis Ostercamp (1. Ferienwoche)
DESCRIPTION:Die Teilnahme kostet für Mitglieder 152 Euro (Geschwisterkinder 124 Euro). \nNicht-Mitglieder zahlen 164 Euro (Geschwisterkinder 136 Euro). \nDas Mittagessen ist in der Teilnahmegebühr enthalten.
URL:https://club-raffelberg.com/event/tennis-ostercamp-1-ferienwoche/
LOCATION:Club Raffelberg e.V.\, Kalkweg 123-125\, Duisburg\, 47055\, Deutschland
CATEGORIES:Camp,Osterferien
END:VEVENT
BEGIN:VEVENT
DTSTART;TZID=Europe/Berlin:20210529T110000
DTEND;TZID=Europe/Berlin:20210529T120000
DTSTAMP:20260421T132033
CREATED:20210516T055631Z
LAST-MODIFIED:20210516T055631Z
UID:10000046-1622286000-1622289600@club-raffelberg.com
SUMMARY:Tennis Schnuppertraining
DESCRIPTION:
URL:https://club-raffelberg.com/event/tennis-2021-05-29/
LOCATION:Club Raffelberg e.V.\, Kalkweg 123-125\, Duisburg\, 47055\, Deutschland
CATEGORIES:Tennis
END:VEVENT
BEGIN:VEVENT
DTSTART;TZID=Europe/Berlin:20210529T100000
DTEND;TZID=Europe/Berlin:20210529T110000
DTSTAMP:20260421T132033
CREATED:20210317T184818Z
LAST-MODIFIED:20210319T185023Z
UID:10000038-1622282400-1622286000@club-raffelberg.com
SUMMARY:Hockey Schnuppertraining
DESCRIPTION:
URL:https://club-raffelberg.com/event/hockey-2021-05-29/
LOCATION:Club Raffelberg e.V.\, Kalkweg 123-125\, Duisburg\, 47055\, Deutschland
CATEGORIES:Hockey
END:VEVENT
BEGIN:VEVENT
DTSTART;TZID=Europe/Berlin:20210522T110000
DTEND;TZID=Europe/Berlin:20210522T120000
DTSTAMP:20260421T132033
CREATED:20210504T142458Z
LAST-MODIFIED:20210522T082837Z
UID:10000045-1621681200-1621684800@club-raffelberg.com
SUMMARY:Tennis Schnuppertraining
DESCRIPTION:
URL:https://club-raffelberg.com/event/tennis-2021-05-22/
LOCATION:Club Raffelberg e.V.\, Kalkweg 123-125\, Duisburg\, 47055\, Deutschland
CATEGORIES:Tennis
END:VEVENT
BEGIN:VEVENT
DTSTART;TZID=Europe/Berlin:20210522T100000
DTEND;TZID=Europe/Berlin:20210522T110000
DTSTAMP:20260421T132033
CREATED:20210504T142055Z
LAST-MODIFIED:20210504T142131Z
UID:10000043-1621677600-1621681200@club-raffelberg.com
SUMMARY:Hockey Schnuppertraining
DESCRIPTION:
URL:https://club-raffelberg.com/event/hockey-2021-05-22/
LOCATION:Club Raffelberg e.V.\, Kalkweg 123-125\, Duisburg\, 47055\, Deutschland
CATEGORIES:Hockey
END:VEVENT
BEGIN:VEVENT
DTSTART;TZID=Europe/Berlin:20210515T110000
DTEND;TZID=Europe/Berlin:20210515T120000
DTSTAMP:20260421T132033
CREATED:20210504T142314Z
LAST-MODIFIED:20210504T142314Z
UID:10000044-1621076400-1621080000@club-raffelberg.com
SUMMARY:Tennis Schnuppertraining
DESCRIPTION:
URL:https://club-raffelberg.com/event/tennis-2021-05-15/
LOCATION:Club Raffelberg e.V.\, Kalkweg 123-125\, Duisburg\, 47055\, Deutschland
CATEGORIES:Tennis
END:VEVENT
BEGIN:VEVENT
DTSTART;TZID=Europe/Berlin:20210515T100000
DTEND;TZID=Europe/Berlin:20210515T110000
DTSTAMP:20260421T132033
CREATED:20210317T184818Z
LAST-MODIFIED:20210319T184959Z
UID:10000037-1621072800-1621076400@club-raffelberg.com
SUMMARY:Hockey Schnuppertraining
DESCRIPTION:
URL:https://club-raffelberg.com/event/hockey-2021-05-15/
LOCATION:Club Raffelberg e.V.\, Kalkweg 123-125\, Duisburg\, 47055\, Deutschland
CATEGORIES:Hockey
END:VEVENT
BEGIN:VEVENT
DTSTART;TZID=Europe/Berlin:20210508T110000
DTEND;TZID=Europe/Berlin:20210508T120000
DTSTAMP:20260421T132033
CREATED:20210319T172747Z
LAST-MODIFIED:20210319T184941Z
UID:10000041-1620471600-1620475200@club-raffelberg.com
SUMMARY:Tennis Schnuppertraining
DESCRIPTION:
URL:https://club-raffelberg.com/event/tennis-2021-05-08/
LOCATION:Club Raffelberg e.V.\, Kalkweg 123-125\, Duisburg\, 47055\, Deutschland
CATEGORIES:Tennis
END:VEVENT
BEGIN:VEVENT
DTSTART;TZID=Europe/Berlin:20210508T100000
DTEND;TZID=Europe/Berlin:20210508T110000
DTSTAMP:20260421T132033
CREATED:20210317T184818Z
LAST-MODIFIED:20210319T184919Z
UID:10000036-1620468000-1620471600@club-raffelberg.com
SUMMARY:Hockey Schnuppertraining
DESCRIPTION:
URL:https://club-raffelberg.com/event/hockey-2021-05-08/
LOCATION:Club Raffelberg e.V.\, Kalkweg 123-125\, Duisburg\, 47055\, Deutschland
CATEGORIES:Hockey
END:VEVENT
BEGIN:VEVENT
DTSTART;TZID=Europe/Berlin:20210501T100000
DTEND;TZID=Europe/Berlin:20210501T110000
DTSTAMP:20260421T132033
CREATED:20210406T190603Z
LAST-MODIFIED:20210406T190603Z
UID:10000042-1619863200-1619866800@club-raffelberg.com
SUMMARY:Hockey Schnuppertraining
DESCRIPTION:
URL:https://club-raffelberg.com/event/hockey-2021-05-01/
LOCATION:Club Raffelberg e.V.\, Kalkweg 123-125\, Duisburg\, 47055\, Deutschland
CATEGORIES:Hockey
END:VEVENT
BEGIN:VEVENT
DTSTART;TZID=Europe/Berlin:20210424T110000
DTEND;TZID=Europe/Berlin:20210424T120000
DTSTAMP:20260421T132033
CREATED:20210319T172409Z
LAST-MODIFIED:20210319T172527Z
UID:10000040-1619262000-1619265600@club-raffelberg.com
SUMMARY:Tennis Schnuppertraining
DESCRIPTION:
URL:https://club-raffelberg.com/event/tennis-2021-04-24/
LOCATION:Club Raffelberg e.V.\, Kalkweg 123-125\, Duisburg\, 47055\, Deutschland
CATEGORIES:Tennis
END:VEVENT
BEGIN:VEVENT
DTSTART;TZID=Europe/Berlin:20210424T100000
DTEND;TZID=Europe/Berlin:20210424T110000
DTSTAMP:20260421T132033
CREATED:20210317T184818Z
LAST-MODIFIED:20210319T184834Z
UID:10000035-1619258400-1619262000@club-raffelberg.com
SUMMARY:Hockey Schnuppertraining
DESCRIPTION:
URL:https://club-raffelberg.com/event/hockey-2021-04-24/
LOCATION:Club Raffelberg e.V.\, Kalkweg 123-125\, Duisburg\, 47055\, Deutschland
CATEGORIES:Hockey
END:VEVENT
BEGIN:VEVENT
DTSTART;TZID=Europe/Berlin:20210417T100000
DTEND;TZID=Europe/Berlin:20210417T110000
DTSTAMP:20260421T132033
CREATED:20210317T184818Z
LAST-MODIFIED:20210319T184812Z
UID:10000034-1618653600-1618657200@club-raffelberg.com
SUMMARY:Hockey Schnuppertraining
DESCRIPTION:
URL:https://club-raffelberg.com/event/hockey-2021-04-17/
LOCATION:Club Raffelberg e.V.\, Kalkweg 123-125\, Duisburg\, 47055\, Deutschland
CATEGORIES:Hockey
END:VEVENT
BEGIN:VEVENT
DTSTART;TZID=Europe/Berlin:20210410T110000
DTEND;TZID=Europe/Berlin:20210410T120000
DTSTAMP:20260421T132033
CREATED:20210319T171318Z
LAST-MODIFIED:20210319T184713Z
UID:10000039-1618052400-1618056000@club-raffelberg.com
SUMMARY:Tennis Schnuppertraining
DESCRIPTION:
URL:https://club-raffelberg.com/event/tennis-2021-04-10/
LOCATION:Club Raffelberg e.V.\, Kalkweg 123-125\, Duisburg\, 47055\, Deutschland
CATEGORIES:Tennis
END:VEVENT
BEGIN:VEVENT
DTSTART;TZID=Europe/Berlin:20210410T100000
DTEND;TZID=Europe/Berlin:20210410T110000
DTSTAMP:20260421T132033
CREATED:20210317T184818Z
LAST-MODIFIED:20210406T185954Z
UID:10000033-1618048800-1618052400@club-raffelberg.com
SUMMARY:Hockey Schnuppertraining
DESCRIPTION:
URL:https://club-raffelberg.com/event/hockey-2021-04-10/
LOCATION:Club Raffelberg e.V.\, Kalkweg 123-125\, Duisburg\, 47055\, Deutschland
CATEGORIES:Hockey
END:VEVENT
END:VCALENDAR